BEGIN:VCALENDAR
VERSION:2.0
PRODID:-//wp-events-plugin.com//7.2.3.1//EN
TZID:Europe/Paris
X-WR-TIMEZONE:Europe/Paris
BEGIN:VEVENT
UID:8349@agenda24.fr
DTSTART;TZID=Europe/Paris:20251004T200000
DTEND;TZID=Europe/Paris:20251004T234500
DTSTAMP:20250909T102832Z
URL:https://agenda24.fr/evenements/west-coast-swing-party/
SUMMARY:West Coast Swing Party
DESCRIPTION: Nouvelles soirées West Coast Swing à Bergerac ! \n Samedi 4 
 octobre 2025 Samedi 8 novembre 2025 Samedi 6 décembre 2025\n Maison Chan 
 – 2 chemin du barrage – Bergerac\n Ambiance west coast swing et partag
 e au rendez-vous ! Boissons / Grignotage\n Prépare tes chaussures de dans
 e et ta bonne humeur ! \nCours Initiation de 20h à 21h – Cours Intermé
 diaire de 21h à 22hSoirée 100% West Coast Swing de 22h à 2h avec Delphi
 ne Cottet\nEntrée 12 € non-adhérent / 10€ adhérent
CATEGORIES:Soirées dansantes
LOCATION:Maison Chan\, 2 chemin du barrage\, BERGERAC\, 24100\, France
X-APPLE-STRUCTURED-LOCATION;VALUE=URI;X-ADDRESS=2 chemin du barrage\, BERGE
 RAC\, 24100\, France;X-APPLE-RADIUS=100;X-TITLE=Maison Chan:geo:0,0
END:VEVENT
BEGIN:VTIMEZONE
TZID:Europe/Paris
X-LIC-LOCATION:Europe/Paris
BEGIN:DAYLIGHT
DTSTART:20250330T030000
TZOFFSETFROM:+0100
TZOFFSETTO:+0200
TZNAME:CEST
END:DAYLIGHT
END:VTIMEZONE
END:VCALENDAR