BEGIN:VCALENDAR
VERSION:2.0
PRODID:-//wp-events-plugin.com//7.2.3.1//EN
TZID:Europe/Paris
X-WR-TIMEZONE:Europe/Paris
BEGIN:VEVENT
UID:11833@agenda24.fr
DTSTART;TZID=Europe/Paris:20260321T100000
DTEND;TZID=Europe/Paris:20260322T170000
DTSTAMP:20260301T135157Z
URL:https://agenda24.fr/evenements/week-end-telerama-a-vos-pass/
SUMMARY:Week-end Télérama - A vos Pass !
DESCRIPTION:Les 21 et 22 mars 2024 de 13h à 18h\, Télérama vous propose 
 de profiter d’un Week-end au musée. Afin d’accéder gratuitement aux 
 collections\, munissez-vous du Pass valable pour 2 personnes découpé dan
 s les numéros de Télérama\n\n    En plus des collections permanentes : 
 4e collection de France en Préhistoire\, 7e collection de France pour l
 ’Afrique et l’Océanie\, seule collection de Beaux-Arts en Périgord a
 vec des pièces majeures dans le domaine de la peinture (« Le portrait de
  Pierre de Bourdeille »\, XVIe s français\, « L’âme au ciel\, 1878\,
  de W. Bouguereau \; dans le domaine de la sculpture Jane Poupelet\, Augus
 te Rodin\, Gilbert Privat et Etienne Hajdu… les expositions temporaires 
 : « Vers le centre de conservation des musées et des archives municipale
 s » « Géographie du corps» (du 12 mars au 21 septembre) de l’artiste
  Michel Batlle invité d’honneur du Festival Expoésie (10-21 mars).
CATEGORIES:Tourisme / Patrimoine
LOCATION:22 Cours Tourny\, 22 Cours Tourny\, Périgueux\, France
GEO:45.185965;0.7236471
X-APPLE-STRUCTURED-LOCATION;VALUE=URI;X-ADDRESS=22 Cours Tourny\, Périgueu
 x\, France;X-APPLE-RADIUS=100;X-TITLE=22 Cours Tourny:geo:45.185965,0.7236
 471
END:VEVENT
BEGIN:VTIMEZONE
TZID:Europe/Paris
X-LIC-LOCATION:Europe/Paris
BEGIN:STANDARD
DTSTART:20251026T020000
TZOFFSETFROM:+0200
TZOFFSETTO:+0100
TZNAME:CET
END:STANDARD
END:VTIMEZONE
END:VCALENDAR