BEGIN:VCALENDAR
VERSION:2.0
PRODID:-//wp-events-plugin.com//7.2.3.1//EN
TZID:Europe/Paris
X-WR-TIMEZONE:Europe/Paris
BEGIN:VEVENT
UID:3999@agenda24.fr
DTSTART;TZID=Europe/Paris:20241110T150000
DTEND;TZID=Europe/Paris:20241110T163000
DTSTAMP:20241030T091155Z
URL:https://agenda24.fr/evenements/visite-theatralisee-du-maquis-de-durest
 al-2/
SUMMARY:Visite théâtralisée du Maquis de Durestal
DESCRIPTION:
CATEGORIES:Spectacle
LOCATION:Maquis de Durestal\, Maquis de Durestal\, Cendrieux\, France
GEO:44.9651906;0.85002910
X-APPLE-STRUCTURED-LOCATION;VALUE=URI;X-ADDRESS=Maquis de Durestal\, Cendri
 eux\, France;X-APPLE-RADIUS=100;X-TITLE=Maquis de Durestal:geo:44.9651906,
 0.85002910
END:VEVENT
BEGIN:VTIMEZONE
TZID:Europe/Paris
X-LIC-LOCATION:Europe/Paris
BEGIN:STANDARD
DTSTART:20241027T020000
TZOFFSETFROM:+0200
TZOFFSETTO:+0100
TZNAME:CET
END:STANDARD
END:VTIMEZONE
END:VCALENDAR