BEGIN:VCALENDAR
VERSION:2.0
PRODID:-//wp-events-plugin.com//7.2.3.1//EN
TZID:Europe/Paris
X-WR-TIMEZONE:Europe/Paris
BEGIN:VEVENT
UID:4015@agenda24.fr
DTSTART;TZID=Europe/Paris:20241031T110000
DTEND;TZID=Europe/Paris:20241031T110000
DTSTAMP:20241030T091147Z
URL:https://agenda24.fr/evenements/visite-speciale-familles-la-petite-aven
 ture-souterraine/
SUMMARY:Visite spéciale "familles" - La petite aventure souterraine
DESCRIPTION:
CATEGORIES:Tourisme / Patrimoine
LOCATION:Grotte de Villars\, Le Cluzeau\, Villars\, France
GEO:45.4425716;0.78513528
X-APPLE-STRUCTURED-LOCATION;VALUE=URI;X-ADDRESS=Le Cluzeau\, Villars\, Fran
 ce;X-APPLE-RADIUS=100;X-TITLE=Grotte de Villars:geo:45.4425716,0.78513528
END:VEVENT
BEGIN:VTIMEZONE
TZID:Europe/Paris
X-LIC-LOCATION:Europe/Paris
BEGIN:STANDARD
DTSTART:20241027T020000
TZOFFSETFROM:+0200
TZOFFSETTO:+0100
TZNAME:CET
END:STANDARD
END:VTIMEZONE
END:VCALENDAR