BEGIN:VCALENDAR
VERSION:2.0
PRODID:-//wp-events-plugin.com//7.2.3.1//EN
TZID:Europe/Paris
X-WR-TIMEZONE:Europe/Paris
BEGIN:VEVENT
UID:5351@agenda24.fr
DTSTART;TZID=Europe/Paris:20250215T183000
DTEND;TZID=Europe/Paris:20250215T183000
DTSTAMP:20250213T102930Z
URL:https://agenda24.fr/evenements/visite-nocturne-et-cocktail-perigourdin
 /
SUMMARY:Visite nocturne et cocktail périgourdin
DESCRIPTION:Pour célébrer l’art de vivre périgourdin\, le Château de 
 Bourdeilles propose une soirée exceptionnelle : une visite nocturne exclu
 sive des lieux\, suivie d’un cocktail dinatoire à partir de 20h dans la
  grande salle du château. 45€/ personne.\n\n\n
CATEGORIES:Tourisme / Patrimoine
LOCATION:Château de Bourdeilles\, Le bourg\, Bourdeilles\, France
GEO:45.3225365;0.58671881
X-APPLE-STRUCTURED-LOCATION;VALUE=URI;X-ADDRESS=Le bourg\, Bourdeilles\, Fr
 ance;X-APPLE-RADIUS=100;X-TITLE=Château de Bourdeilles:geo:45.3225365,0.5
 8671881
END:VEVENT
BEGIN:VTIMEZONE
TZID:Europe/Paris
X-LIC-LOCATION:Europe/Paris
BEGIN:STANDARD
DTSTART:20241027T020000
TZOFFSETFROM:+0200
TZOFFSETTO:+0100
TZNAME:CET
END:STANDARD
END:VTIMEZONE
END:VCALENDAR