BEGIN:VCALENDAR
VERSION:2.0
PRODID:-//wp-events-plugin.com//7.2.3.1//EN
TZID:Europe/Paris
X-WR-TIMEZONE:Europe/Paris
BEGIN:VEVENT
UID:11821@agenda24.fr
DTSTART;TZID=Europe/Paris:20260303T140000
DTEND;TZID=Europe/Paris:20260303T150000
DTSTAMP:20260301T135206Z
URL:https://agenda24.fr/evenements/visite-guidee-perigueux-toits-de-la-cat
 hedrale-saint-front/
SUMMARY:Visite guidée Périgueux - Toits de la Cathédrale Saint Front
DESCRIPTION:Découvrez les toits de la cathédrale Saint-Front ! Grimpez au
  sommet de ce joyau UNESCO et admirez une vue imprenable sur Périgueux. U
 ne expérience unique entre architecture et histoire\, idéale pour les am
 ateurs de patrimoine et de panoramas exceptionnels ! \n\nRESERVATION UNIQU
 EMENT - REGLEMENT 15MN AVANT LE DEPART DE VISITES\, A L'OFFICE DE TOURISME
  9BIS PLACE DU CODERC.\n\nSous réserve de conditions météo favorable.\n
 \nLa visite est accessible à partir de 8 ans\, les mineurs doivent être 
 accompagnés d'un adulte.\n\nVisite proposée en Français.
CATEGORIES:Tourisme / Patrimoine
LOCATION:Office de tourisme Destination Périgueux\, 9B Place du Coderc\, P
 érigueux\, France
GEO:45.1845;0.72098
X-APPLE-STRUCTURED-LOCATION;VALUE=URI;X-ADDRESS=9B Place du Coderc\, Périg
 ueux\, France;X-APPLE-RADIUS=100;X-TITLE=Office de tourisme Destination P
 érigueux:geo:45.1845,0.72098
END:VEVENT
BEGIN:VTIMEZONE
TZID:Europe/Paris
X-LIC-LOCATION:Europe/Paris
BEGIN:STANDARD
DTSTART:20251026T020000
TZOFFSETFROM:+0200
TZOFFSETTO:+0100
TZNAME:CET
END:STANDARD
END:VTIMEZONE
END:VCALENDAR