BEGIN:VCALENDAR
VERSION:2.0
PRODID:-//wp-events-plugin.com//7.2.3.1//EN
TZID:Europe/Paris
X-WR-TIMEZONE:Europe/Paris
BEGIN:VEVENT
UID:11826@agenda24.fr
DTSTART;TZID=Europe/Paris:20260313T143000
DTEND;TZID=Europe/Paris:20260313T160000
DTSTAMP:20260301T135157Z
URL:https://agenda24.fr/evenements/visite-guidee-perigueux-puy-saint-front
 -10-siecles-dhistoire/
SUMMARY:Visite guidée Périgueux - Puy Saint-Front : 10 siècles d'Histoir
 e
DESCRIPTION:Partez à la découverte du Puy Saint Front\, berceau historiqu
 e de Périgueux et véritable joyau d’architecture. Cette visite immersi
 ve vous transporte à travers dix siècles d’Histoire\, des origines du 
 quartier au rayonnement de la cathédrale Saint-Front\, classée au patrim
 oine mondial de l’UNESCO.\n\nLaissez-vous guider dans un dédale de ruel
 les pittoresques\, admirez les façades sculptées\, les vestiges d’édi
 fices religieux et les secrets bien gardés d’un quartier où le passé 
 continue de vibrer.\n\n?? À découvrir :\n\n    L’histoire fascinante d
 e la cathédrale Saint-Front\n\n    Les ruelles et placettes chargées d
 ’Histoire\n\n    L’évolution architecturale au fil des siècles\n\n  
   Anecdotes et légendes locales\n\n\nRéservation à l'Office de Tourisme
  ou sur la billeterie en ligne\n\nVisite au départ de l'Office de Tourism
 e de Périgueux
CATEGORIES:Tourisme / Patrimoine
LOCATION:Office de tourisme Destination Périgueux\, 9 Bis Place du Coderc\
 , Périgueux\, France
GEO:45.1845151;0.7209778
X-APPLE-STRUCTURED-LOCATION;VALUE=URI;X-ADDRESS=9 Bis Place du Coderc\, Pé
 rigueux\, France;X-APPLE-RADIUS=100;X-TITLE=Office de tourisme Destination
  Périgueux:geo:45.1845151,0.7209778
END:VEVENT
BEGIN:VTIMEZONE
TZID:Europe/Paris
X-LIC-LOCATION:Europe/Paris
BEGIN:STANDARD
DTSTART:20251026T020000
TZOFFSETFROM:+0200
TZOFFSETTO:+0100
TZNAME:CET
END:STANDARD
END:VTIMEZONE
END:VCALENDAR