BEGIN:VCALENDAR
VERSION:2.0
PRODID:-//wp-events-plugin.com//7.2.3.1//EN
TZID:Europe/Paris
X-WR-TIMEZONE:Europe/Paris
BEGIN:VEVENT
UID:5330@agenda24.fr
DTSTART;TZID=Europe/Paris:20250309T143000
DTEND;TZID=Europe/Paris:20250309T143000
DTSTAMP:20250213T102931Z
URL:https://agenda24.fr/evenements/visite-guidee-du-chateau-de-bourdeilles
 /
SUMMARY:Visite guidée du château de Bourdeilles
DESCRIPTION:Profitez d’une visite guidée du château accompagnés d’un
  guide qui vous dévoilera tous les secrets de cet incroyable lieu…\nTar
 if : 12.70€ par personne.
CATEGORIES:Tourisme / Patrimoine
LOCATION:Château de Bourdeilles\, Place de la Hall\, Bourdeilles\, France
GEO:45.323881;0.58551999
X-APPLE-STRUCTURED-LOCATION;VALUE=URI;X-ADDRESS=Place de la Hall\, Bourdeil
 les\, France;X-APPLE-RADIUS=100;X-TITLE=Château de Bourdeilles:geo:45.323
 881,0.58551999
END:VEVENT
BEGIN:VTIMEZONE
TZID:Europe/Paris
X-LIC-LOCATION:Europe/Paris
BEGIN:STANDARD
DTSTART:20241027T020000
TZOFFSETFROM:+0200
TZOFFSETTO:+0100
TZNAME:CET
END:STANDARD
END:VTIMEZONE
END:VCALENDAR