BEGIN:VCALENDAR
VERSION:2.0
PRODID:-//wp-events-plugin.com//7.2.3.1//EN
TZID:Europe/Paris
X-WR-TIMEZONE:Europe/Paris
BEGIN:VEVENT
UID:5333@agenda24.fr
DTSTART;TZID=Europe/Paris:20250222T150000
DTEND;TZID=Europe/Paris:20250222T163000
DTSTAMP:20250213T102942Z
URL:https://agenda24.fr/evenements/visite-guidee-de-perigueux-le-puy-saint
 -front-au-moyen-age-8/
SUMMARY:Visite guidée de Périgueux - Le Puy Saint-Front au Moyen-âge
DESCRIPTION:Samedi 22 février à 15H  \n\nPÉRIGUEUX\, LE PUY SAINT-FRONT 
 AU MOYEN ÂGE\n\nVenez découvrir le quartier médiéval\, son histoire\, 
 son patrimoine en déambulant dans son labyrinthe de ruelles. Au cours de 
 votre parcours\, votre guide vous mènera  bien évidemment à la cathédr
 ale Saint-Front. \n\nRendez-vous devant le portail de la cathédrale Saint
 -Front place de la Clautre.\n\nDurée de visite : 1h30\n\nBilletterie :\nL
 es billets sont en vente en ligne et réservable jusqu'à 1h avant le dép
 art de la visite.\n
CATEGORIES:Tourisme / Patrimoine
LOCATION:Place de la Clautre\, Place de la Clautre\, Périgueux\, France
GEO:45.1835577;0.72200749
X-APPLE-STRUCTURED-LOCATION;VALUE=URI;X-ADDRESS=Place de la Clautre\, Péri
 gueux\, France;X-APPLE-RADIUS=100;X-TITLE=Place de la Clautre:geo:45.18355
 77,0.72200749
END:VEVENT
BEGIN:VTIMEZONE
TZID:Europe/Paris
X-LIC-LOCATION:Europe/Paris
BEGIN:STANDARD
DTSTART:20241027T020000
TZOFFSETFROM:+0200
TZOFFSETTO:+0100
TZNAME:CET
END:STANDARD
END:VTIMEZONE
END:VCALENDAR