BEGIN:VCALENDAR
VERSION:2.0
PRODID:-//wp-events-plugin.com//7.2.3.1//EN
TZID:Europe/Paris
X-WR-TIMEZONE:Europe/Paris
BEGIN:VEVENT
UID:4016@agenda24.fr
DTSTART;TZID=Europe/Paris:20241115T110000
DTEND;TZID=Europe/Paris:20241115T110000
DTSTAMP:20241030T091155Z
URL:https://agenda24.fr/evenements/visite-flash-perigueux-jeux-antiques-au
 -parc-des-arenes/
SUMMARY:Visite flash Périgueux - Jeux Antiques au Parc des Arènes
DESCRIPTION:
CATEGORIES:Tourisme / Patrimoine
LOCATION:Jardin des arènes\, 9 Boulevard des Arènes\, Périgueux\, France
GEO:45.1828486;0.71338666
X-APPLE-STRUCTURED-LOCATION;VALUE=URI;X-ADDRESS=9 Boulevard des Arènes\, P
 érigueux\, France;X-APPLE-RADIUS=100;X-TITLE=Jardin des arènes:geo:45.18
 28486,0.71338666
END:VEVENT
BEGIN:VTIMEZONE
TZID:Europe/Paris
X-LIC-LOCATION:Europe/Paris
BEGIN:STANDARD
DTSTART:20241027T020000
TZOFFSETFROM:+0200
TZOFFSETTO:+0100
TZNAME:CET
END:STANDARD
END:VTIMEZONE
END:VCALENDAR