BEGIN:VCALENDAR
VERSION:2.0
PRODID:-//wp-events-plugin.com//7.2.3.1//EN
TZID:Europe/Paris
X-WR-TIMEZONE:Europe/Paris
BEGIN:VEVENT
UID:5329@agenda24.fr
DTSTART;TZID=Europe/Paris:20250223T143000
DTEND;TZID=Europe/Paris:20250223T143000
DTSTAMP:20250213T102931Z
URL:https://agenda24.fr/evenements/visite-fete-des-fous-et-gouter-carnaval
 esque/
SUMMARY:Visite fête des fous et goûter carnavalesque
DESCRIPTION:Visite spéciale « Fête des fous » suivie d'un goûter digne
  des carnavals médiévaux ! Venez costumés ! Sur réservation. 12\,70€
 /personne.\n\nLa fête des fous ou le carnaval\, est une période où les 
 habitants sortent déguisés pour danser\, chanter\, faire la fête et s
 ’amuser. Lors de cette fête\, les codes et l’ordre social sont chambo
 ulés\, on porte des masques\, du maquillage…\n\nCette fête arrive en p
 rincipe à mi-carême\, période de certaines privations culinaires pour l
 es chrétiens mais heureusement\, à la fin du carnaval\, on mangeait d’
 excellents beignets : les Bugnes !\n\n\n\n
CATEGORIES:Tourisme / Patrimoine
LOCATION:Château de Bourdeilles\, Place de la Halle\, Bourdeilles\, France
GEO:45.3226438;0.58693620
X-APPLE-STRUCTURED-LOCATION;VALUE=URI;X-ADDRESS=Place de la Halle\, Bourdei
 lles\, France;X-APPLE-RADIUS=100;X-TITLE=Château de Bourdeilles:geo:45.32
 26438,0.58693620
END:VEVENT
BEGIN:VTIMEZONE
TZID:Europe/Paris
X-LIC-LOCATION:Europe/Paris
BEGIN:STANDARD
DTSTART:20241027T020000
TZOFFSETFROM:+0200
TZOFFSETTO:+0100
TZNAME:CET
END:STANDARD
END:VTIMEZONE
END:VCALENDAR