BEGIN:VCALENDAR
VERSION:2.0
PRODID:-//wp-events-plugin.com//7.2.3.1//EN
TZID:Europe/Paris
X-WR-TIMEZONE:Europe/Paris
BEGIN:VEVENT
UID:5328@agenda24.fr
DTSTART;TZID=Europe/Paris:20250222T143000
DTEND;TZID=Europe/Paris:20250222T143000
DTSTAMP:20250213T102931Z
URL:https://agenda24.fr/evenements/visite-dun-moulin-lors-de-la-fabricatio
 n-dhuile-de-noix/
SUMMARY:Visite d'un moulin lors de la fabrication d'huile de noix
DESCRIPTION:Au moulin de la Chaume près de Marthon. Limité à 25 personne
 s.
CATEGORIES:Tourisme / Patrimoine
LOCATION:Moulin del a Chaume\, Moulin del a Chaume\, Saint-Estephe\, France
GEO:45.5923870;0.6643690
X-APPLE-STRUCTURED-LOCATION;VALUE=URI;X-ADDRESS=Moulin del a Chaume\, Saint
 -Estephe\, France;X-APPLE-RADIUS=100;X-TITLE=Moulin del a Chaume:geo:45.59
 23870,0.6643690
END:VEVENT
BEGIN:VTIMEZONE
TZID:Europe/Paris
X-LIC-LOCATION:Europe/Paris
BEGIN:STANDARD
DTSTART:20241027T020000
TZOFFSETFROM:+0200
TZOFFSETTO:+0100
TZNAME:CET
END:STANDARD
END:VTIMEZONE
END:VCALENDAR