BEGIN:VCALENDAR
VERSION:2.0
PRODID:-//wp-events-plugin.com//7.2.3.1//EN
TZID:Europe/Paris
X-WR-TIMEZONE:Europe/Paris
BEGIN:VEVENT
UID:11659@agenda24.fr
DTSTART;TZID=Europe/Paris:20260228T120000
DTEND;TZID=Europe/Paris:20260228T180000
DTSTAMP:20260223T201207Z
URL:https://agenda24.fr/evenements/visite-du-chemin-agro-naturaliste-deyss
 al/
SUMMARY:Visite du chemin agro-naturaliste d'Eyssal
DESCRIPTION:\n\nVenez visiter notre sentier d'interprétation qui chemine s
 ur trois des fermes du hameau d’Eyssal. Sur un parcours de 2 km\, les vi
 siteurs sont plongés dans un écrin de verdure et d’agriculture. Par le
  biais de panneaux explicatifs mettant en avant les pratiques agricoles ou
  les espèces remarquables présentes sur le site\, ils sont invités à s
 e questionner sur la relation entre agriculture durable\, biodiversité et
  ressource en eau. Ce chemin a été inauguré en juin 2025 et nous contin
 uons à le faire connaitre.\nCette visite est organisée avec l'associatio
 n Ça roule pour toi ! qui propose des balades accessibles à tous\, grâc
 e aux joëlettes\, qui sont des fauteuils tout terrain monoroue permettan
 t la pratique de la randonnée pour les personnes à mobilité réduite\, 
 accompagnées de randonneurs valides.\n\n\n\n\nAu programme\n\n\n\nLe mati
 n l'association ça roule pour toi propose une petite randonnée de 7 km d
 e 10h à midi sur la commune de Saint-Georges-de-Montclard au patrimoine 
 très riche !\nRDV à 9h45 place des colonnes 24140 St-Georges-de-Montclar
 d prévenez les si vous venez caroulepourtoi@gmail.com\n\n\n\n\n\nRDV à m
 idi pour un pique nique tiré du sac au foyer rural de Lamonzie-Montastruc
 .\nAprès le repas nous partirons à pied vers le hameau de Eyssal où nou
 s commencerons la visite.\nDans le hameau nous serons rejoints par Sébast
 ien Peytavie notre député Périgourdin.\nLa randonnée devrait prendre e
 ntre 2h30 et 3h30 selon le chemin retour choisi.\nPensez à prendre des v
 êtements adaptés à la météo et des chaussures étanches et adaptées 
 à la marche.\n\n\n
CATEGORIES:Tourisme / Patrimoine
LOCATION:Foyer rural\, 125 Rue du Tacot\, Lamonzie-Montastruc\, 24520\, Fra
 nce
X-APPLE-STRUCTURED-LOCATION;VALUE=URI;X-ADDRESS=125 Rue du Tacot\, Lamonzie
 -Montastruc\, 24520\, France;X-APPLE-RADIUS=100;X-TITLE=Foyer rural:geo:0,
 0
END:VEVENT
BEGIN:VTIMEZONE
TZID:Europe/Paris
X-LIC-LOCATION:Europe/Paris
BEGIN:STANDARD
DTSTART:20251026T020000
TZOFFSETFROM:+0200
TZOFFSETTO:+0100
TZNAME:CET
END:STANDARD
END:VTIMEZONE
END:VCALENDAR