BEGIN:VCALENDAR
VERSION:2.0
PRODID:-//wp-events-plugin.com//7.2.3.1//EN
TZID:Europe/Paris
X-WR-TIMEZONE:Europe/Paris
BEGIN:VEVENT
UID:4019@agenda24.fr
DTSTART;TZID=Europe/Paris:20241031T110000
DTEND;TZID=Europe/Paris:20241031T120000
DTSTAMP:20241030T091147Z
URL:https://agenda24.fr/evenements/visite-des-toits-de-la-cathedrale-saint
 -front-7/
SUMMARY:Visite des toits de la cathédrale Saint-Front
DESCRIPTION:
CATEGORIES:Tourisme / Patrimoine
LOCATION:rue Saint-Front - avenue Daumesnil\, rue Saint-Front - avenue Daum
 esnil\, Périgueux\, France
GEO:45.1840143;0.72280281
X-APPLE-STRUCTURED-LOCATION;VALUE=URI;X-ADDRESS=rue Saint-Front - avenue Da
 umesnil\, Périgueux\, France;X-APPLE-RADIUS=100;X-TITLE=rue Saint-Front -
  avenue Daumesnil:geo:45.1840143,0.72280281
END:VEVENT
BEGIN:VTIMEZONE
TZID:Europe/Paris
X-LIC-LOCATION:Europe/Paris
BEGIN:STANDARD
DTSTART:20241027T020000
TZOFFSETFROM:+0200
TZOFFSETTO:+0100
TZNAME:CET
END:STANDARD
END:VTIMEZONE
END:VCALENDAR