BEGIN:VCALENDAR
VERSION:2.0
PRODID:-//wp-events-plugin.com//7.2.3.1//EN
TZID:Europe/Paris
X-WR-TIMEZONE:Europe/Paris
BEGIN:VEVENT
UID:11822@agenda24.fr
DTSTART;TZID=Europe/Paris:20260303T140000
DTEND;TZID=Europe/Paris:20260303T160000
DTSTAMP:20260301T135206Z
URL:https://agenda24.fr/evenements/visite-de-la-micro-folie/
SUMMARY:Visite de la Micro-folie
DESCRIPTION:Visitez la Microfolie de Brantôme le mardi 03 mars de 14h à 1
 6h. Découvrez des œuvres variées\, sur le thème de la mobilité. Cette
  visite est gratuite\, sur inscription. 
CATEGORIES:Tourisme / Patrimoine
LOCATION:Eglise Notre-Dame\, 2\, rue Puyjoli de Meyjounissas\, Brantôme\, 
 France
GEO:45.364005;0.64782392
X-APPLE-STRUCTURED-LOCATION;VALUE=URI;X-ADDRESS=2\, rue Puyjoli de Meyjouni
 ssas\, Brantôme\, France;X-APPLE-RADIUS=100;X-TITLE=Eglise Notre-Dame:geo
 :45.364005,0.64782392
END:VEVENT
BEGIN:VTIMEZONE
TZID:Europe/Paris
X-LIC-LOCATION:Europe/Paris
BEGIN:STANDARD
DTSTART:20251026T020000
TZOFFSETFROM:+0200
TZOFFSETTO:+0100
TZNAME:CET
END:STANDARD
END:VTIMEZONE
END:VCALENDAR