BEGIN:VCALENDAR
VERSION:2.0
PRODID:-//wp-events-plugin.com//7.2.3.1//EN
TZID:Europe/Paris
X-WR-TIMEZONE:Europe/Paris
BEGIN:VEVENT
UID:10223@agenda24.fr
DTSTART;TZID=Europe/Paris:20251213T100000
DTEND;TZID=Europe/Paris:20251213T180000
DTSTAMP:20251210T134243Z
URL:https://agenda24.fr/evenements/village-de-noel-2/
SUMMARY:Village de Noël
DESCRIPTION:Retrouvez le neuvième village de noël de Prigonrieux\, organi
 sé par le Comité de Jumelage Prigonrieux-Charlemagne.\nDe nombreux expos
 ants et créateurs vous attendent.\nRestauration sur place\, vente de crê
 pes et Vin chaud.\nPour plus de renseignement vous pouvez contacter Mme Le
 sfargues au 06 09 35 08 77.
CATEGORIES:Evènement à thème
LOCATION:Espace socio-culturel\, Place du Groupe Loiseau\, Prigonrieux\, Fr
 ance
GEO:44.8551553;0.4023907
X-APPLE-STRUCTURED-LOCATION;VALUE=URI;X-ADDRESS=Place du Groupe Loiseau\, P
 rigonrieux\, France;X-APPLE-RADIUS=100;X-TITLE=Espace socio-culturel:geo:4
 4.8551553,0.4023907
END:VEVENT
BEGIN:VTIMEZONE
TZID:Europe/Paris
X-LIC-LOCATION:Europe/Paris
BEGIN:STANDARD
DTSTART:20251026T020000
TZOFFSETFROM:+0200
TZOFFSETTO:+0100
TZNAME:CET
END:STANDARD
END:VTIMEZONE
END:VCALENDAR