BEGIN:VCALENDAR
VERSION:2.0
PRODID:-//wp-events-plugin.com//7.2.3.1//EN
TZID:Europe/Paris
X-WR-TIMEZONE:Europe/Paris
BEGIN:VEVENT
UID:5960@agenda24.fr
DTSTART;TZID=Europe/Paris:20250330T060000
DTEND;TZID=Europe/Paris:20250330T173000
DTSTAMP:20250326T140649Z
URL:https://agenda24.fr/evenements/vide-greniers-brocante-16/
SUMMARY:Vide-greniers & brocante
DESCRIPTION:Tous à la brocante le dernier dimanche de chaque mois. Emplace
 ment sur réservation 2€ le mètre. Buvette et restauration sur place.
CATEGORIES:Marché / Foire / Brocante
LOCATION:Parking de la salle des fêtes\, Le Varachou\, Biras\, France
GEO:45.2863964;0.63809077
X-APPLE-STRUCTURED-LOCATION;VALUE=URI;X-ADDRESS=Le Varachou\, Biras\, Franc
 e;X-APPLE-RADIUS=100;X-TITLE=Parking de la salle des fêtes:geo:45.2863964
 ,0.63809077
END:VEVENT
BEGIN:VTIMEZONE
TZID:Europe/Paris
X-LIC-LOCATION:Europe/Paris
BEGIN:DAYLIGHT
DTSTART:20250330T030000
TZOFFSETFROM:+0100
TZOFFSETTO:+0200
TZNAME:CEST
END:DAYLIGHT
END:VTIMEZONE
END:VCALENDAR