BEGIN:VCALENDAR
VERSION:2.0
PRODID:-//wp-events-plugin.com//7.2.3.1//EN
TZID:Europe/Paris
X-WR-TIMEZONE:Europe/Paris
BEGIN:VEVENT
UID:5931@agenda24.fr
DTSTART;TZID=Europe/Paris:20250406T080000
DTEND;TZID=Europe/Paris:20250406T180000
DTSTAMP:20250326T140656Z
URL:https://agenda24.fr/evenements/vide-greniers-13/
SUMMARY:Vide-greniers
DESCRIPTION:Accueil des exposants à partir de 6h / 2€ le mètre linéair
 e. Buvette\, café et convivialité sur place. Réservation 06.70.48.29.25
  ou 07.61.54.08.75 joignable de 9h à 19h.
CATEGORIES:Marché / Foire / Brocante
LOCATION:Allée de Bussac\, Allée de Bussac\, Nontron\, France
GEO:45.5316084;0.6630257
X-APPLE-STRUCTURED-LOCATION;VALUE=URI;X-ADDRESS=Allée de Bussac\, Nontron\
 , France;X-APPLE-RADIUS=100;X-TITLE=Allée de Bussac:geo:45.5316084,0.6630
 257
END:VEVENT
BEGIN:VTIMEZONE
TZID:Europe/Paris
X-LIC-LOCATION:Europe/Paris
BEGIN:DAYLIGHT
DTSTART:20250330T030000
TZOFFSETFROM:+0100
TZOFFSETTO:+0200
TZNAME:CEST
END:DAYLIGHT
END:VTIMEZONE
END:VCALENDAR