BEGIN:VCALENDAR
VERSION:2.0
PRODID:-//wp-events-plugin.com//7.2.3.1//EN
TZID:Europe/Paris
X-WR-TIMEZONE:Europe/Paris
BEGIN:VEVENT
UID:5948@agenda24.fr
DTSTART;TZID=Europe/Paris:20250406T090000
DTEND;TZID=Europe/Paris:20250406T180000
DTSTAMP:20250326T140650Z
URL:https://agenda24.fr/evenements/vide-grenier-38/
SUMMARY:Vide-grenier
DESCRIPTION:Vide-grenier ouvert à tous dans la cour de l’école primaire
  de Brantôme. N’hésitez pas à réserver votre emplacement par sms ou 
 appel au numéro indiqué sur l’affiche. Emplacement: 2\,50€/mètre. R
 estauration sur place\, buvette\, vente de gaufres et friandises.\n
CATEGORIES:Marché / Foire / Brocante
LOCATION:Cour de l'école primaire\, Cour de l'école primaire \, Brantôme
 \, France
GEO:45.3609505;0.65107399
X-APPLE-STRUCTURED-LOCATION;VALUE=URI;X-ADDRESS=Cour de l'école primaire \
 , Brantôme\, France;X-APPLE-RADIUS=100;X-TITLE=Cour de l'école primaire:
 geo:45.3609505,0.65107399
END:VEVENT
BEGIN:VTIMEZONE
TZID:Europe/Paris
X-LIC-LOCATION:Europe/Paris
BEGIN:DAYLIGHT
DTSTART:20250330T030000
TZOFFSETFROM:+0100
TZOFFSETTO:+0200
TZNAME:CEST
END:DAYLIGHT
END:VTIMEZONE
END:VCALENDAR