BEGIN:VCALENDAR
VERSION:2.0
PRODID:-//wp-events-plugin.com//7.2.3.1//EN
TZID:Europe/Paris
X-WR-TIMEZONE:Europe/Paris
BEGIN:VEVENT
UID:5963@agenda24.fr
DTSTART;TZID=Europe/Paris:20250406T080000
DTEND;TZID=Europe/Paris:20250406T170000
DTSTAMP:20250326T140643Z
URL:https://agenda24.fr/evenements/vide-grenier-36/
SUMMARY:Vide grenier
DESCRIPTION:De nombreux exposants seront présents et déballeront leurs ma
 rchandises. Venez découvrir des objets et bibelots variés\, des meubles\
 , aux ustensiles en cuivre\, en passant par les jouets\, outils anciens\, 
 tissus\, vaisselles\, livres...
CATEGORIES:Marché / Foire / Brocante
LOCATION:Place des cornières\, Place des cornières\, Monpazier\, France
GEO:44.682654;0.895369
X-APPLE-STRUCTURED-LOCATION;VALUE=URI;X-ADDRESS=Place des cornières\, Monp
 azier\, France;X-APPLE-RADIUS=100;X-TITLE=Place des cornières:geo:44.6826
 54,0.895369
END:VEVENT
BEGIN:VTIMEZONE
TZID:Europe/Paris
X-LIC-LOCATION:Europe/Paris
BEGIN:DAYLIGHT
DTSTART:20250330T030000
TZOFFSETFROM:+0100
TZOFFSETTO:+0200
TZNAME:CEST
END:DAYLIGHT
END:VTIMEZONE
END:VCALENDAR