BEGIN:VCALENDAR
VERSION:2.0
PRODID:-//wp-events-plugin.com//7.2.3.1//EN
TZID:Europe/Paris
X-WR-TIMEZONE:Europe/Paris
BEGIN:VEVENT
UID:5251@agenda24.fr
DTSTART;TZID=Europe/Paris:20250302T090000
DTEND;TZID=Europe/Paris:20250302T180000
DTSTAMP:20250213T103020Z
URL:https://agenda24.fr/evenements/vide-grenier-33/
SUMMARY:Vide-Grenier
DESCRIPTION:Vide Grenier toute la journée\, allée Gambetta\, place de l
 ’Eglise\, place et salle Gerbeaud\, rue Saint-Agnan. \nTarifs: 10€/5m\
 , 4€/ml (intérieur). \nRés: 06 35 97 78 97. RCM Cyclisme\n
CATEGORIES:Marché / Foire / Brocante
LOCATION:Centre-ville\, Centre-ville\, Mussidan\, France
GEO:45.037085;0.36429899
X-APPLE-STRUCTURED-LOCATION;VALUE=URI;X-ADDRESS=Centre-ville\, Mussidan\, F
 rance;X-APPLE-RADIUS=100;X-TITLE=Centre-ville:geo:45.037085,0.36429899
END:VEVENT
BEGIN:VTIMEZONE
TZID:Europe/Paris
X-LIC-LOCATION:Europe/Paris
BEGIN:STANDARD
DTSTART:20241027T020000
TZOFFSETFROM:+0200
TZOFFSETTO:+0100
TZNAME:CET
END:STANDARD
END:VTIMEZONE
END:VCALENDAR