BEGIN:VCALENDAR
VERSION:2.0
PRODID:-//wp-events-plugin.com//7.2.3.1//EN
TZID:Europe/Paris
X-WR-TIMEZONE:Europe/Paris
BEGIN:VEVENT
UID:5971@agenda24.fr
DTSTART;TZID=Europe/Paris:20250404T190000
DTEND;TZID=Europe/Paris:20250404T213000
DTSTAMP:20250326T140643Z
URL:https://agenda24.fr/evenements/vide-dressing-vetements-femmes/
SUMMARY:Vide dressing vêtements femmes
DESCRIPTION:L’association de La Conne de Bergerac organise sont vide dres
 sing pour des vêtements féminins.\n\nVenez déposer vos vêtements et ac
 cessoires de seconde main.\n\nVendredi 4 avril de 19h00 à 21h30\nSamedi 5
  avril de 9h30 à 12h30 et de 14h30 à 17h00
CATEGORIES:Marché / Foire / Brocante
LOCATION:Salle Florczuk\, 3 Rue Jacques Tourneur\, Bergerac\, France
GEO:44.8334;0.51581
X-APPLE-STRUCTURED-LOCATION;VALUE=URI;X-ADDRESS=3 Rue Jacques Tourneur\, Be
 rgerac\, France;X-APPLE-RADIUS=100;X-TITLE=Salle Florczuk:geo:44.8334,0.51
 581
END:VEVENT
BEGIN:VTIMEZONE
TZID:Europe/Paris
X-LIC-LOCATION:Europe/Paris
BEGIN:DAYLIGHT
DTSTART:20250330T030000
TZOFFSETFROM:+0100
TZOFFSETTO:+0200
TZNAME:CEST
END:DAYLIGHT
END:VTIMEZONE
END:VCALENDAR