BEGIN:VCALENDAR
VERSION:2.0
PRODID:-//wp-events-plugin.com//7.2.3.1//EN
TZID:Europe/Paris
X-WR-TIMEZONE:Europe/Paris
BEGIN:VEVENT
UID:5250@agenda24.fr
DTSTART;TZID=Europe/Paris:20250302T090000
DTEND;TZID=Europe/Paris:20250302T180000
DTSTAMP:20250213T103020Z
URL:https://agenda24.fr/evenements/vide-armoire/
SUMMARY:Vide-armoire
DESCRIPTION:Les Amis du livre pour tous au Bénin organisent un vide-armoir
 e à la salle des fêtes de la commune.\nVêtements femme\, enfant et homm
 e.\n\nBuvette sur place.
CATEGORIES:Marché / Foire / Brocante
LOCATION:Salle des fêtes\, Le bourg\, Lamothe-Montravel\, France
GEO:44.8059476;0.0160192
X-APPLE-STRUCTURED-LOCATION;VALUE=URI;X-ADDRESS=Le bourg\, Lamothe-Montrave
 l\, France;X-APPLE-RADIUS=100;X-TITLE=Salle des fêtes:geo:44.8059476,0.01
 60192
END:VEVENT
BEGIN:VTIMEZONE
TZID:Europe/Paris
X-LIC-LOCATION:Europe/Paris
BEGIN:STANDARD
DTSTART:20241027T020000
TZOFFSETFROM:+0200
TZOFFSETTO:+0100
TZNAME:CET
END:STANDARD
END:VTIMEZONE
END:VCALENDAR