BEGIN:VCALENDAR
VERSION:2.0
PRODID:-//wp-events-plugin.com//7.2.3.1//EN
TZID:Europe/Paris
X-WR-TIMEZONE:Europe/Paris
BEGIN:VEVENT
UID:4013@agenda24.fr
DTSTART;TZID=Europe/Paris:20241122T180000
DTEND;TZID=Europe/Paris:20241122T180000
DTSTAMP:20241030T091155Z
URL:https://agenda24.fr/evenements/vernissage-exposition-masques-totem-et-
 photo-du-burkina-faso-a-la-maison-doussot-de-carsac/
SUMMARY:Vernissage exposition masques\, totem et photo du Burkina Faso à l
 a maison Doussot de Carsac
DESCRIPTION:
CATEGORIES:Tourisme / Patrimoine
LOCATION:Maison Doussot\, 77 place haute\, Carsac-Aillac\, France
GEO:44.8424090;1.3010150
X-APPLE-STRUCTURED-LOCATION;VALUE=URI;X-ADDRESS=77 place haute\, Carsac-Ail
 lac\, France;X-APPLE-RADIUS=100;X-TITLE=Maison Doussot:geo:44.8424090,1.30
 10150
END:VEVENT
BEGIN:VTIMEZONE
TZID:Europe/Paris
X-LIC-LOCATION:Europe/Paris
BEGIN:STANDARD
DTSTART:20241027T020000
TZOFFSETFROM:+0200
TZOFFSETTO:+0100
TZNAME:CET
END:STANDARD
END:VTIMEZONE
END:VCALENDAR