BEGIN:VCALENDAR
VERSION:2.0
PRODID:-//wp-events-plugin.com//7.2.3.1//EN
TZID:Europe/Paris
X-WR-TIMEZONE:Europe/Paris
BEGIN:VEVENT
UID:5613@agenda24.fr
DTSTART;TZID=Europe/Paris:20250405T150000
DTEND;TZID=Europe/Paris:20250405T150000
DTSTAMP:20250326T122620Z
URL:https://agenda24.fr/evenements/vernissage-et-ateliers-a-la-croisee-des
 -chemins-atelier-ceramique-avec-maelle-caborderie-autour-du-conte-de-roche
 zide-a-partir-de-6-ans/
SUMMARY:Vernissage et ateliers A la croisée des chemins - Atelier céramiq
 ue avec Maëlle Caborderie autour du conte de Rochezide. A partir de 6 ans
 .
DESCRIPTION:Rappel : vernissage de l'exposition A la croisée des chemins -
  a la crotz\ndaus chamins ce vendredi à 18h !\nL'exposition « A la crotz
  daus chamins / À la croisée des chemins »\,\nprésentera au public\, d
 u 29 mars au 5 avril 2025\, sous la halle de la\nMairie de Nontron\, le pr
 ocessus de recherche et de création collective\nconçu en résidence par 
 9 professionnels métiers d’art pour la réalisation\nde sculptures mét
 iers d'art\, en lien avec la culture occitane\, sur\nl’itinérance de la
  Grande Boucle du Parc naturel régional\nPérigord-Limousin.\n\nLES ATELI
 ERS DE L'EXPOSITION - GRATUITS sur inscription\n- Samedi 29 mars : 15h-16h
 30 : Atelier céramique avec Mellie Branchereau\n– Atelier disque Paysag
 e. A partir de 8 ans.\n- Samedi 5 avril : 15h-16h30\, Atelier céramique a
 vec Maëlle Caborderie\nautour du conte de Rochezide. A partir de 6 ans.\n
 \ncontact : contact@metiersdartperigord.fr / 05 53 60 74 17
CATEGORIES:Atelier / Stage
LOCATION:Mairie Nontron\, Nontron\, Nontron\, France
X-APPLE-STRUCTURED-LOCATION;VALUE=URI;X-ADDRESS=Nontron\, Nontron\, France;
 X-APPLE-RADIUS=100;X-TITLE=Mairie Nontron:geo:0,0
END:VEVENT
BEGIN:VTIMEZONE
TZID:Europe/Paris
X-LIC-LOCATION:Europe/Paris
BEGIN:DAYLIGHT
DTSTART:20250330T030000
TZOFFSETFROM:+0100
TZOFFSETTO:+0200
TZNAME:CEST
END:DAYLIGHT
END:VTIMEZONE
END:VCALENDAR