BEGIN:VCALENDAR
VERSION:2.0
PRODID:-//wp-events-plugin.com//7.2.3.1//EN
TZID:Europe/Paris
X-WR-TIMEZONE:Europe/Paris
BEGIN:VEVENT
UID:3889@agenda24.fr
DTSTART;TZID=Europe/Paris:20241031T140000
DTEND;TZID=Europe/Paris:20241031T180000
DTSTAMP:20241030T085618Z
URL:https://agenda24.fr/evenements/venez-feter-halloween-avec-le-bugatsou/
SUMMARY:Venez fêter Halloween avec le Bugatsou
DESCRIPTION:
CATEGORIES:Evènement à thème
LOCATION:Place de la mairie\, 10 place de l'Hôtel de ville\, le Bugue\, Fr
 ance
GEO:44.91796;0.9275
X-APPLE-STRUCTURED-LOCATION;VALUE=URI;X-ADDRESS=10 place de l'Hôtel de vil
 le\, le Bugue\, France;X-APPLE-RADIUS=100;X-TITLE=Place de la mairie:geo:4
 4.91796,0.9275
END:VEVENT
BEGIN:VTIMEZONE
TZID:Europe/Paris
X-LIC-LOCATION:Europe/Paris
BEGIN:STANDARD
DTSTART:20241027T020000
TZOFFSETFROM:+0200
TZOFFSETTO:+0100
TZNAME:CET
END:STANDARD
END:VTIMEZONE
END:VCALENDAR