BEGIN:VCALENDAR
VERSION:2.0
PRODID:-//wp-events-plugin.com//7.2.3.1//EN
TZID:Europe/Paris
X-WR-TIMEZONE:Europe/Paris
BEGIN:VEVENT
UID:5726@agenda24.fr
DTSTART;TZID=Europe/Paris:20250419T180000
DTEND;TZID=Europe/Paris:20250419T180000
DTSTAMP:20250326T135042Z
URL:https://agenda24.fr/evenements/variante-7-varia-sound-circus/
SUMMARY:Variante #7 - Varia Sound Circus
DESCRIPTION:Approchez\, approchez ! Votre troupe préférée revient sur le
 s planches encore chaudes du château d'Excideuil\, pour une soirée haute
  en couleur\, haute en musique\, haute en acrobaties !\nDe l'interaction\,
  mini-jeux et des surprises au programme.\nDe la musique : DJ Sets multi-s
 tyles\, dub\, techno\, bass music jusqu'à 3h du matin.\nDe la bière\, de
 s boissons et de la nourriture une fois de plus assurée par nos artisans 
 locaux\, dans des petits prix pour garder la forme sur notre dancefloor.
CATEGORIES:Concert
LOCATION:Château\, Château\, Excideuil\, France
GEO:45.3342873;1.0492063
X-APPLE-STRUCTURED-LOCATION;VALUE=URI;X-ADDRESS=Château\, Excideuil\, Fran
 ce;X-APPLE-RADIUS=100;X-TITLE=Château:geo:45.3342873,1.0492063
END:VEVENT
BEGIN:VTIMEZONE
TZID:Europe/Paris
X-LIC-LOCATION:Europe/Paris
BEGIN:DAYLIGHT
DTSTART:20250330T030000
TZOFFSETFROM:+0100
TZOFFSETTO:+0200
TZNAME:CEST
END:DAYLIGHT
END:VTIMEZONE
END:VCALENDAR