BEGIN:VCALENDAR
VERSION:2.0
PRODID:-//wp-events-plugin.com//7.2.3.1//EN
TZID:Europe/Paris
X-WR-TIMEZONE:Europe/Paris
BEGIN:VEVENT
UID:3877@agenda24.fr
DTSTART;TZID=Europe/Paris:20241102T160000
DTEND;TZID=Europe/Paris:20241102T160000
DTSTAMP:20241030T085627Z
URL:https://agenda24.fr/evenements/varaignes-fete-halloween/
SUMMARY:Varaignes fête Halloween
DESCRIPTION:
CATEGORIES:Evènement à thème
LOCATION:Halle\, Halle\, Varaignes\, France
GEO:45.59791;0.53038
X-APPLE-STRUCTURED-LOCATION;VALUE=URI;X-ADDRESS=Halle\, Varaignes\, France;
 X-APPLE-RADIUS=100;X-TITLE=Halle:geo:45.59791,0.53038
END:VEVENT
BEGIN:VTIMEZONE
TZID:Europe/Paris
X-LIC-LOCATION:Europe/Paris
BEGIN:STANDARD
DTSTART:20241027T020000
TZOFFSETFROM:+0200
TZOFFSETTO:+0100
TZNAME:CET
END:STANDARD
END:VTIMEZONE
END:VCALENDAR