BEGIN:VCALENDAR
VERSION:2.0
PRODID:-//wp-events-plugin.com//7.2.3.1//EN
TZID:Europe/Paris
X-WR-TIMEZONE:Europe/Paris
BEGIN:VEVENT
UID:5109@agenda24.fr
DTSTART;TZID=Europe/Paris:20250213T100000
DTEND;TZID=Europe/Paris:20250213T120000
DTSTAMP:20250213T093421Z
URL:https://agenda24.fr/evenements/une-douce-parenthese-autour-de-la-naiss
 ance-3/
SUMMARY:Une douce parenthèse autour de la naissance
DESCRIPTION:en partenariat avec l’Espace Famille\nTu attends un enfant\, 
 tu viens de donner naissance\, tu découvres et traverse la parentalité a
 vec ce petit être qui a rejoint ta famille ?\nTu as envie de partager ce 
 que tu vis\, de t'inspirer des récits de ceux qui vivent la même chose q
 ue toi\, à leur manière\, de trouver du soutien dans les mots\, les rega
 rds\, les retours d'expériences ?\nQue dirais-tu d'une douce parenthèse 
 ? C'est un temps de partage\, d'écoute et d'échanges d'expériences sur 
 cette vaste aventure qu'est la maternité\, la paternité.Un temps pour se
  rencontrer\, se rendre compte que l'on n'est pas seul.e\, se soutenir. Un
  lieu où tu es le la.\nBébés évidemment bienvenus (tapis\, jouets et t
 able à langer à disposition).\n
CATEGORIES:Rencontre / Conférence / Discussion
LOCATION:L'HanGare\, L'HanGare\, Thiviers\, France
GEO:45.41881;0.92125
X-APPLE-STRUCTURED-LOCATION;VALUE=URI;X-ADDRESS=L'HanGare\, Thiviers\, Fran
 ce;X-APPLE-RADIUS=100;X-TITLE=L'HanGare:geo:45.41881,0.92125
END:VEVENT
BEGIN:VTIMEZONE
TZID:Europe/Paris
X-LIC-LOCATION:Europe/Paris
BEGIN:STANDARD
DTSTART:20241027T020000
TZOFFSETFROM:+0200
TZOFFSETTO:+0100
TZNAME:CET
END:STANDARD
END:VTIMEZONE
END:VCALENDAR