BEGIN:VCALENDAR
VERSION:2.0
PRODID:-//wp-events-plugin.com//7.2.3.1//EN
TZID:Europe/Paris
X-WR-TIMEZONE:Europe/Paris
BEGIN:VEVENT
UID:9715@agenda24.fr
DTSTART;TZID=Europe/Paris:20251210T200000
DTEND;TZID=Europe/Paris:20251210T223000
DTSTAMP:20251101T090449Z
URL:https://agenda24.fr/evenements/triumph-le-cirque-sur-glace/
SUMMARY:« Triumph » le cirque sur glace
DESCRIPTION:Spectacle présenté par «NP Spectacles productions»\nLe cirq
 ue Triumph sur glace est un spectacle étonnant ! Les artistes qui compose
 nt cette troupe combinent tradition et innovation au rythme de musiques tr
 aditionnelles et des tendances du nouveau cirque pour un public toujours p
 lus exigeant. Aujourd’hui en effet les spectateurs attendent des perform
 ances : cascades incroyables\, acrobaties de haut niveau\, histoires imagi
 naires avec des effets spéciaux et magiques\, des tableaux insolites en l
 iaison avec tous les arts du cirque. Ces artistes virtuoses évoluent sur 
 une glace synthétique aux possibilités infinies. Ils offrent un subtil a
 ssortiment de numéros se situant entre le spectacle acrobatique\, le mond
 e fascinant du cirque et la féerie d’un gala de danse.\nVous vous laiss
 erez séduire par l’élégance et la grâce de ces trente artistes\, ils
  vous feront vivre deux heures de pur bonheur.
CATEGORIES:Spectacle
LOCATION:Centre Culturel Michel Manet\, Place Gambetta\, Bergerac\, France
GEO:44.8545302;0.48230426
X-APPLE-STRUCTURED-LOCATION;VALUE=URI;X-ADDRESS=Place Gambetta\, Bergerac\,
  France;X-APPLE-RADIUS=100;X-TITLE=Centre Culturel Michel Manet:geo:44.854
 5302,0.48230426
END:VEVENT
BEGIN:VTIMEZONE
TZID:Europe/Paris
X-LIC-LOCATION:Europe/Paris
BEGIN:STANDARD
DTSTART:20251026T020000
TZOFFSETFROM:+0200
TZOFFSETTO:+0100
TZNAME:CET
END:STANDARD
END:VTIMEZONE
END:VCALENDAR