BEGIN:VCALENDAR
VERSION:2.0
PRODID:-//wp-events-plugin.com//7.2.3.1//EN
TZID:Europe/Paris
X-WR-TIMEZONE:Europe/Paris
BEGIN:VEVENT
UID:8362@agenda24.fr
DTSTART;TZID=Europe/Paris:20250911T060000
DTEND;TZID=Europe/Paris:20250911T180000
DTSTAMP:20250911T070718Z
URL:https://agenda24.fr/evenements/tous-les-jours-au-rond-point-de-brantom
 e-barrage-filtrant-tres-tot/
SUMMARY:10S25 - On bloque TOUT - Les actions à Brantôme
DESCRIPTION:Le rendez-vous est donné vendredi 12/09 pour une AG à 17h30 a
 u rond-point Font-Vendôme. C'est important qu'il y ait le plus de monde p
 ossible!\nOn va décider des actions jusqu'au 18/09 et de revendications c
 ommunes parmi la multiplicité des avis politiques.\n\nPour mobiliser le m
 aximum on propose d'aller tracter et rencontrer les gens à la sortie des 
 supermarchés\, sur les marchés (vendredi matin à Brantôme il y en a un
  gros). Pour participer\, venez sur Telegram (téléchargez l'application 
 Telegram depuis votre smartphone si vous en avez un puis cliquez sur le li
 en) : https://t.me/+S5lNMsTJ43JhNWE0\n\nSi vous n'avez pas de smartphone\,
  rendez-vous vendredi 17h30 pour rencontrer tout le monde !
CATEGORIES:Militant
LOCATION:Rond point de Brantôme\, Rond point\, Brantôme\, France
X-APPLE-STRUCTURED-LOCATION;VALUE=URI;X-ADDRESS=Rond point\, Brantôme\, Fr
 ance;X-APPLE-RADIUS=100;X-TITLE=Rond point de Brantôme:geo:0,0
END:VEVENT
BEGIN:VTIMEZONE
TZID:Europe/Paris
X-LIC-LOCATION:Europe/Paris
BEGIN:DAYLIGHT
DTSTART:20250330T030000
TZOFFSETFROM:+0100
TZOFFSETTO:+0200
TZNAME:CEST
END:DAYLIGHT
END:VTIMEZONE
END:VCALENDAR