BEGIN:VCALENDAR
VERSION:2.0
PRODID:-//wp-events-plugin.com//7.2.3.1//EN
TZID:Europe/Paris
X-WR-TIMEZONE:Europe/Paris
BEGIN:VEVENT
UID:10789@agenda24.fr
DTSTART;TZID=Europe/Paris:20260228T000000
DTEND;TZID=Europe/Paris:20260228T000000
DTSTAMP:20260223T194325Z
URL:https://agenda24.fr/evenements/tournoi-de-carcassonne-cacaothe/
SUMMARY:Tournoi de Carcassonne - Cacaothé
DESCRIPTION:
CATEGORIES:Evènement à thème,Jeux
LOCATION:cacaothé\, 7\, Avenue Daumesnil\, Périgueux\, 24000\, France
X-APPLE-STRUCTURED-LOCATION;VALUE=URI;X-ADDRESS=7\, Avenue Daumesnil\, Pér
 igueux\, 24000\, France;X-APPLE-RADIUS=100;X-TITLE=cacaothé:geo:0,0
END:VEVENT
BEGIN:VTIMEZONE
TZID:Europe/Paris
X-LIC-LOCATION:Europe/Paris
BEGIN:STANDARD
DTSTART:20251026T020000
TZOFFSETFROM:+0200
TZOFFSETTO:+0100
TZNAME:CET
END:STANDARD
END:VTIMEZONE
END:VCALENDAR