BEGIN:VCALENDAR
VERSION:2.0
PRODID:-//wp-events-plugin.com//7.2.3.1//EN
TZID:Europe/Paris
X-WR-TIMEZONE:Europe/Paris
BEGIN:VEVENT
UID:5267@agenda24.fr
DTSTART;TZID=Europe/Paris:20250223T170000
DTEND;TZID=Europe/Paris:20250223T170000
DTSTAMP:20250213T103011Z
URL:https://agenda24.fr/evenements/theatre-whatsapiennes/
SUMMARY:Théâtre - Whatsapiennes
DESCRIPTION:L'Amicale Laïque de Saint-Cyprien vous propose d'assister à l
 a pièce "Whatsapiennes" présentée par les Strapantins.\nRendez-vous le 
 dimanche 23 février à 17h00 au Grand Foyer.\nEntrée libre. \nDe la grot
 te à WhatSapp\, il n’y a qu’un jet de propulseur ! une trace…. Une
  semaine sur deux\, en sortant du travail\, elles se retrouvent dans cet a
 bri qui est leur QG. Là elles partagent entre copines\, les potins\, les 
 soucis\, l’actualité… Ce soir-là un projet se met en place.\nClins d
 ’œil et de mots à Silex and the city\, le langage est calqué sur le n
 ôtre. De quelles femmes venons-nous\, de quelles structures sociales ? A
  quel moment les choses ont-elles vrillé ? Comme le dit Titiou Lecoq «
  Pourquoi l’histoire a effacé les femmes ».\nSur le mode humoristiqu
 e\, et au travers de nos ancêtres qui ont posé sur la roche\, leurs main
 s\, leurs dessins\, cette pièce parle surtout de nous.
CATEGORIES:Spectacle
LOCATION:Grand foyer\, Rue de la Grange des Pères\, Saint-Cyprien\, France
GEO:44.8685986;1.04538402
X-APPLE-STRUCTURED-LOCATION;VALUE=URI;X-ADDRESS=Rue de la Grange des Pères
 \, Saint-Cyprien\, France;X-APPLE-RADIUS=100;X-TITLE=Grand foyer:geo:44.86
 85986,1.04538402
END:VEVENT
BEGIN:VTIMEZONE
TZID:Europe/Paris
X-LIC-LOCATION:Europe/Paris
BEGIN:STANDARD
DTSTART:20241027T020000
TZOFFSETFROM:+0200
TZOFFSETTO:+0100
TZNAME:CET
END:STANDARD
END:VTIMEZONE
END:VCALENDAR