BEGIN:VCALENDAR
VERSION:2.0
PRODID:-//wp-events-plugin.com//7.2.3.1//EN
TZID:Europe/Paris
X-WR-TIMEZONE:Europe/Paris
BEGIN:VEVENT
UID:11868@agenda24.fr
DTSTART;TZID=Europe/Paris:20260315T160000
DTEND;TZID=Europe/Paris:20260315T160000
DTSTAMP:20260301T135836Z
URL:https://agenda24.fr/evenements/theatre-welcome-2/
SUMMARY:Théâtre : "Welcome"
DESCRIPTION:En pleine crise sanitaire\, Lise effectue un remplacement en ta
 nt que psychologue dans un EHPAD. \nEntre tendresse et maltraitance instit
 utionnelle\, elle va découvrir tout un univers.\nEntre huis clos et grand
 e évasion\, une pièce unique où le rire et l’émotion s’entrecroise
 nt pour interroger notre part d’humanité et les conditions de vies de n
 os aînés. \n(Durée 1h15) A partir de 10 ans. 10 € / personne.\n\n16h\
 , Théâtre de la Poivrière.\n\nThéâtre de la Poivrière SMS 06 84 82 4
 5 01 / 05 53 03 54 61
CATEGORIES:Spectacle
LOCATION:Théâtre La Poivrière\, 2 place Saint Astier\, Saint-Astier\, Fr
 ance
GEO:45.1453641;0.52920151
X-APPLE-STRUCTURED-LOCATION;VALUE=URI;X-ADDRESS=2 place Saint Astier\, Sain
 t-Astier\, France;X-APPLE-RADIUS=100;X-TITLE=Théâtre La Poivrière:geo:4
 5.1453641,0.52920151
END:VEVENT
BEGIN:VTIMEZONE
TZID:Europe/Paris
X-LIC-LOCATION:Europe/Paris
BEGIN:STANDARD
DTSTART:20251026T020000
TZOFFSETFROM:+0200
TZOFFSETTO:+0100
TZNAME:CET
END:STANDARD
END:VTIMEZONE
END:VCALENDAR