BEGIN:VCALENDAR
VERSION:2.0
PRODID:-//wp-events-plugin.com//7.2.3.1//EN
TZID:Europe/Paris
X-WR-TIMEZONE:Europe/Paris
BEGIN:VEVENT
UID:3987@agenda24.fr
DTSTART;TZID=Europe/Paris:20241115T203000
DTEND;TZID=Europe/Paris:20241115T203000
DTSTAMP:20241030T091156Z
URL:https://agenda24.fr/evenements/theatre-tapis-jaune-4/
SUMMARY:Théâtre - Tapis Jaune
DESCRIPTION:
CATEGORIES:Spectacle
LOCATION:Salle multi-activités\, Chemin des Écoliers\, Issigeac\, France
GEO:44.7321781;0.61007693
X-APPLE-STRUCTURED-LOCATION;VALUE=URI;X-ADDRESS=Chemin des Écoliers\, Issi
 geac\, France;X-APPLE-RADIUS=100;X-TITLE=Salle multi-activités:geo:44.732
 1781,0.61007693
END:VEVENT
BEGIN:VTIMEZONE
TZID:Europe/Paris
X-LIC-LOCATION:Europe/Paris
BEGIN:STANDARD
DTSTART:20241027T020000
TZOFFSETFROM:+0200
TZOFFSETTO:+0100
TZNAME:CET
END:STANDARD
END:VTIMEZONE
END:VCALENDAR