BEGIN:VCALENDAR
VERSION:2.0
PRODID:-//wp-events-plugin.com//7.2.3.1//EN
TZID:Europe/Paris
X-WR-TIMEZONE:Europe/Paris
BEGIN:VEVENT
UID:5287@agenda24.fr
DTSTART;TZID=Europe/Paris:20250214T203000
DTEND;TZID=Europe/Paris:20250214T203000
DTSTAMP:20250213T103002Z
URL:https://agenda24.fr/evenements/theatre-sophie-la-harpiste-one-woman-sh
 ow/
SUMMARY:Théâtre "Sophie la Harpiste" one-woman show
DESCRIPTION:Seule en scène avec son instrument\, Sophie la Harpiste nous r
 aconte avec humour le quotidien d'une harpiste professionnelle. Situations
  cocasses et touchantes faites de tournées\, concerts\, leçons et rencon
 tres ...\nCe portrait est constitué d'une série de tableaux illustrés p
 ar de nombreuses pièces musicales de tous styles et toutes époques\, du 
 baroque à la musique contemporaine ... jusqu'au rap !\nSpectacle tout pub
 lic. \nA 20h30 salle Le Lascaux \nTarifs : 8€ plein tarif - 5€ de 18 
 à 25 ans - 1€ minima sociaux - gratuit - 18 ans\nRenseignements et rés
 ervations :  06 14 10 60 28 ou 06 67 87 81 78 
CATEGORIES:Spectacle
LOCATION:Salle Le Lascaux\, Salle Le Lascaux\, Montpon-Ménestérol\, Franc
 e
GEO:45.0090720;0.15946316
X-APPLE-STRUCTURED-LOCATION;VALUE=URI;X-ADDRESS=Salle Le Lascaux\, Montpon-
 Ménestérol\, France;X-APPLE-RADIUS=100;X-TITLE=Salle Le Lascaux:geo:45.0
 090720,0.15946316
END:VEVENT
BEGIN:VTIMEZONE
TZID:Europe/Paris
X-LIC-LOCATION:Europe/Paris
BEGIN:STANDARD
DTSTART:20241027T020000
TZOFFSETFROM:+0200
TZOFFSETTO:+0100
TZNAME:CET
END:STANDARD
END:VTIMEZONE
END:VCALENDAR