BEGIN:VCALENDAR
VERSION:2.0
PRODID:-//wp-events-plugin.com//7.2.3.1//EN
TZID:Europe/Paris
X-WR-TIMEZONE:Europe/Paris
BEGIN:VEVENT
UID:5315@agenda24.fr
DTSTART;TZID=Europe/Paris:20250307T203000
DTEND;TZID=Europe/Paris:20250307T203000
DTSTAMP:20250213T102953Z
URL:https://agenda24.fr/evenements/theatre-seule-en-scene-chloe-oliveres-q
 uand-je-serais-grande-je-serais-patrick-swaye/
SUMMARY:Théâtre - seule en scène - Chloé Oliveres "Quand je serais gran
 de\, je serais Patrick Swaye"
DESCRIPTION:C’est l’histoire d’une femme au bord de la crise de la qu
 arantaine\, biberonnée aux bluettes et contes de fées. Une femme des ann
 ées 2020\, pas tout à fait libérée\, qui sans le regard d’un homme\,
  n’est même pas sûre d’exister. Errante et sans dessein\, la voilà 
 perdue quelque part entre Simone de Beauvoir et John Travolta\, entre Patr
 ick Swayze et Agnès Varda. Entre Dirty Dancing et L’une chante l’autr
 e pas. À la manière d’une Annie Ernaux qui aurait mangé Florence Fore
 sti\, Chloé rejoue ses amours réelles et imaginaires\, avec beaucoup d
 ’autodérision\, le sens du tragique\, une chanson en yaourt\, quelques 
 personnages\, et pas mal de danse lascive.
CATEGORIES:Spectacle
LOCATION:Centre Culturel\, Centre Culturel\, Sarlat-La-Canéda\, France
GEO:44.8908910;1.2172920
X-APPLE-STRUCTURED-LOCATION;VALUE=URI;X-ADDRESS=Centre Culturel\, Sarlat-La
 -Canéda\, France;X-APPLE-RADIUS=100;X-TITLE=Centre Culturel:geo:44.890891
 0,1.2172920
END:VEVENT
BEGIN:VTIMEZONE
TZID:Europe/Paris
X-LIC-LOCATION:Europe/Paris
BEGIN:STANDARD
DTSTART:20241027T020000
TZOFFSETFROM:+0200
TZOFFSETTO:+0100
TZNAME:CET
END:STANDARD
END:VTIMEZONE
END:VCALENDAR