BEGIN:VCALENDAR
VERSION:2.0
PRODID:-//wp-events-plugin.com//7.2.3.1//EN
TZID:Europe/Paris
X-WR-TIMEZONE:Europe/Paris
BEGIN:VEVENT
UID:3948@agenda24.fr
DTSTART;TZID=Europe/Paris:20241122T203000
DTEND;TZID=Europe/Paris:20241122T203000
DTSTAMP:20241030T091320Z
URL:https://agenda24.fr/evenements/theatre-pour-le-telethon/
SUMMARY:Théâtre pour le Téléthon
DESCRIPTION:
CATEGORIES:Spectacle
LOCATION:Salle des fêtes\, Salle des fêtes\, Moulin-Neuf\, France
GEO:45.0097910;0.05045735
X-APPLE-STRUCTURED-LOCATION;VALUE=URI;X-ADDRESS=Salle des fêtes\, Moulin-N
 euf\, France;X-APPLE-RADIUS=100;X-TITLE=Salle des fêtes:geo:45.0097910,0.
 05045735
END:VEVENT
BEGIN:VTIMEZONE
TZID:Europe/Paris
X-LIC-LOCATION:Europe/Paris
BEGIN:STANDARD
DTSTART:20241027T020000
TZOFFSETFROM:+0200
TZOFFSETTO:+0100
TZNAME:CET
END:STANDARD
END:VTIMEZONE
END:VCALENDAR