BEGIN:VCALENDAR
VERSION:2.0
PRODID:-//wp-events-plugin.com//7.2.3.1//EN
TZID:Europe/Paris
X-WR-TIMEZONE:Europe/Paris
BEGIN:VEVENT
UID:5288@agenda24.fr
DTSTART;TZID=Europe/Paris:20250306T143000
DTEND;TZID=Europe/Paris:20250306T153000
DTSTAMP:20250213T103003Z
URL:https://agenda24.fr/evenements/theatre-passeurs-de-patrimoine-les-3-fa
 ntastiques/
SUMMARY:Théâtre – Passeurs de patrimoine - Les 3 fantastiques
DESCRIPTION:Dans cette représentation théâtralisée\, la comédienne Emi
 lie Esquerré et la costumière Garland Newman donnent vie à trois femmes
  aux destins incroyables : l’aventurière du XVIIIe siècle Jeanne Barre
 t\, la couturière de l’entre-deux-guerres Jenny Sacerdote et l’artist
 e contemporaine Emma Reyes. Leurs points communs ? Force de caractère\, c
 réativité\, amour de la nature…et un lien étroit avec la Dordogne !\n
 \nUne création 2024 Cie Rouletabille & Cie Lilo dans le cadre d’un proj
 et artistique et pédagogique pour la dénomination de l’école primaire
  du Gour de l’Arche : l’actuelle école Emma Reyes.  \n\nDurée : 1h\n
 Rendez-vous : Amphitéâtre Jean-Moulin (à côté de la Médiathèque Pie
 rre Fanlac)\n\nGratuit - Réservation conseillée
CATEGORIES:Spectacle
LOCATION:Médiathèque Amphitéâtre Jean Moulin\, 12 Avenue Georges Pompid
 ou\, Périgueux\, France
GEO:45.18861;0.72332
X-APPLE-STRUCTURED-LOCATION;VALUE=URI;X-ADDRESS=12 Avenue Georges Pompidou\
 , Périgueux\, France;X-APPLE-RADIUS=100;X-TITLE=Médiathèque Amphitéât
 re Jean Moulin:geo:45.18861,0.72332
END:VEVENT
BEGIN:VTIMEZONE
TZID:Europe/Paris
X-LIC-LOCATION:Europe/Paris
BEGIN:STANDARD
DTSTART:20241027T020000
TZOFFSETFROM:+0200
TZOFFSETTO:+0100
TZNAME:CET
END:STANDARD
END:VTIMEZONE
END:VCALENDAR