BEGIN:VCALENDAR
VERSION:2.0
PRODID:-//wp-events-plugin.com//7.2.3.1//EN
TZID:Europe/Paris
X-WR-TIMEZONE:Europe/Paris
BEGIN:VEVENT
UID:5275@agenda24.fr
DTSTART;TZID=Europe/Paris:20250308T203000
DTEND;TZID=Europe/Paris:20250308T203000
DTSTAMP:20250213T103003Z
URL:https://agenda24.fr/evenements/theatre-par-les-tetes-de-lar/
SUMMARY:Théâtre par "Les têtes de l'ar..."
DESCRIPTION:Pièce de Viviane Tardivel et Alexis Bondis : "L'AMOUR VACHE"\n
 Désespérée à l'idée de voir son fils agriculteur devenir vieux garço
 n et perdre l'héritage familial\, la mère l'inscrit à l'émission "Cupi
 don à la ferme"
CATEGORIES:Spectacle
LOCATION:Salle culturelle Le Nantholia\, Les Grésilles\, Nantheuil\, Franc
 e
GEO:45.4140510;0.9379740
X-APPLE-STRUCTURED-LOCATION;VALUE=URI;X-ADDRESS=Les Grésilles\, Nantheuil\
 , France;X-APPLE-RADIUS=100;X-TITLE=Salle culturelle Le Nantholia:geo:45.4
 140510,0.9379740
END:VEVENT
BEGIN:VTIMEZONE
TZID:Europe/Paris
X-LIC-LOCATION:Europe/Paris
BEGIN:STANDARD
DTSTART:20241027T020000
TZOFFSETFROM:+0200
TZOFFSETTO:+0100
TZNAME:CET
END:STANDARD
END:VTIMEZONE
END:VCALENDAR