BEGIN:VCALENDAR
VERSION:2.0
PRODID:-//wp-events-plugin.com//7.2.3.1//EN
TZID:Europe/Paris
X-WR-TIMEZONE:Europe/Paris
BEGIN:VEVENT
UID:3951@agenda24.fr
DTSTART;TZID=Europe/Paris:20241109T203000
DTEND;TZID=Europe/Paris:20241109T203000
DTSTAMP:20241030T091320Z
URL:https://agenda24.fr/evenements/theatre-ongle-pour-ongle/
SUMMARY:Théâtre – Ongle pour ongle
DESCRIPTION:
CATEGORIES:Spectacle
LOCATION:Foyer Rural\, Foyer Rural\, le Pizou\, France
GEO:45.02771;0.06742
X-APPLE-STRUCTURED-LOCATION;VALUE=URI;X-ADDRESS=Foyer Rural\, le Pizou\, Fr
 ance;X-APPLE-RADIUS=100;X-TITLE=Foyer Rural:geo:45.02771,0.06742
END:VEVENT
BEGIN:VTIMEZONE
TZID:Europe/Paris
X-LIC-LOCATION:Europe/Paris
BEGIN:STANDARD
DTSTART:20241027T020000
TZOFFSETFROM:+0200
TZOFFSETTO:+0100
TZNAME:CET
END:STANDARD
END:VTIMEZONE
END:VCALENDAR