BEGIN:VCALENDAR
VERSION:2.0
PRODID:-//wp-events-plugin.com//7.2.3.1//EN
TZID:Europe/Paris
X-WR-TIMEZONE:Europe/Paris
BEGIN:VEVENT
UID:11870@agenda24.fr
DTSTART;TZID=Europe/Paris:20260320T203000
DTEND;TZID=Europe/Paris:20260321T203000
DTSTAMP:20260301T135836Z
URL:https://agenda24.fr/evenements/theatre-on-est-une-famille-unie-3/
SUMMARY:Théâtre « On est une famille unie »
DESCRIPTION:Théâtre « On est une famille unie » \nUne satire sociale qu
 i met en lumière avec un humour parfois cinglant les comportements des me
 mbres d’une même famille à l’ouverture d’un testament. Intérêts 
 personnels\, avidité\, jalousie\, égoïsmes\, vont se révéler sans pud
 eur et bousculer les liens du sang. \nL’équipe est composée de 11 bén
 évoles : 5 comédiens\, et 6 qui interviennent en support (mise en scène
 \, son et lumières\, décor\, costumes\, etc…) \n20h30\, salle des fêt
 es à Maurens. \nTarif: 10€/ad\, gratuit/enf -12 ans. \nInfos: 06 32 09 
 84 84. Le P’tit Théâtre de Maurens
CATEGORIES:Spectacle
LOCATION:Salle des fêtes\, Maurens\, Maurens\, France
GEO:44.935608;0.48416
X-APPLE-STRUCTURED-LOCATION;VALUE=URI;X-ADDRESS=Maurens\, Maurens\, France;
 X-APPLE-RADIUS=100;X-TITLE=Salle des fêtes:geo:44.935608,0.48416
END:VEVENT
BEGIN:VTIMEZONE
TZID:Europe/Paris
X-LIC-LOCATION:Europe/Paris
BEGIN:STANDARD
DTSTART:20251026T020000
TZOFFSETFROM:+0200
TZOFFSETTO:+0100
TZNAME:CET
END:STANDARD
END:VTIMEZONE
END:VCALENDAR