BEGIN:VCALENDAR
VERSION:2.0
PRODID:-//wp-events-plugin.com//7.2.3.1//EN
TZID:Europe/Paris
X-WR-TIMEZONE:Europe/Paris
BEGIN:VEVENT
UID:3956@agenda24.fr
DTSTART;TZID=Europe/Paris:20241116T203000
DTEND;TZID=Europe/Paris:20241116T203000
DTSTAMP:20241030T091320Z
URL:https://agenda24.fr/evenements/theatre-motus/
SUMMARY:Théâtre - "Motus"
DESCRIPTION:
CATEGORIES:Spectacle
LOCATION:Théâtre La Poivrière\, 2 passage du Marché\, Saint-Astier\, Fr
 ance
GEO:45.1453720;0.52919349
X-APPLE-STRUCTURED-LOCATION;VALUE=URI;X-ADDRESS=2 passage du Marché\, Sain
 t-Astier\, France;X-APPLE-RADIUS=100;X-TITLE=Théâtre La Poivrière:geo:4
 5.1453720,0.52919349
END:VEVENT
BEGIN:VTIMEZONE
TZID:Europe/Paris
X-LIC-LOCATION:Europe/Paris
BEGIN:STANDARD
DTSTART:20241027T020000
TZOFFSETFROM:+0200
TZOFFSETTO:+0100
TZNAME:CET
END:STANDARD
END:VTIMEZONE
END:VCALENDAR