BEGIN:VCALENDAR
VERSION:2.0
PRODID:-//wp-events-plugin.com//7.2.3.1//EN
TZID:Europe/Paris
X-WR-TIMEZONE:Europe/Paris
BEGIN:VEVENT
UID:3950@agenda24.fr
DTSTART;TZID=Europe/Paris:20241124T170000
DTEND;TZID=Europe/Paris:20241124T170000
DTSTAMP:20241030T091320Z
URL:https://agenda24.fr/evenements/theatre-les-odysees-2/
SUMMARY:Théâtre – Les Odysées
DESCRIPTION:
CATEGORIES:Spectacle
LOCATION:Centre Culturel\, Centre Culturel \, Sarlat-La-Canéda\, France
GEO:44.8896656;1.21454349
X-APPLE-STRUCTURED-LOCATION;VALUE=URI;X-ADDRESS=Centre Culturel \, Sarlat-L
 a-Canéda\, France;X-APPLE-RADIUS=100;X-TITLE=Centre Culturel:geo:44.88966
 56,1.21454349
END:VEVENT
BEGIN:VTIMEZONE
TZID:Europe/Paris
X-LIC-LOCATION:Europe/Paris
BEGIN:STANDARD
DTSTART:20241027T020000
TZOFFSETFROM:+0200
TZOFFSETTO:+0100
TZNAME:CET
END:STANDARD
END:VTIMEZONE
END:VCALENDAR