BEGIN:VCALENDAR
VERSION:2.0
PRODID:-//wp-events-plugin.com//7.2.3.1//EN
TZID:Europe/Paris
X-WR-TIMEZONE:Europe/Paris
BEGIN:VEVENT
UID:5324@agenda24.fr
DTSTART;TZID=Europe/Paris:20250228T200000
DTEND;TZID=Europe/Paris:20250228T210000
DTSTAMP:20250213T102942Z
URL:https://agenda24.fr/evenements/theatre-le-paradis-novecento/
SUMMARY:Théâtre Le Paradis - "Novecento"
DESCRIPTION:Compagnie Lazzi Zanni\nDistribution : texte d'Alessandro Baricc
 o - Lecture scénique par Fabien Bassot\nDurée : 1h\n\nVoici une histoire
  étrange et merveilleuse. Celle de Danny Boodmann T.D. Lemon Novecento\, 
 né en 1900. Au cours d’une traversée et abandonné par ses parents sur
  le piano d’un transatlantique\, le Virginian. Élevé tout d’abord pa
 r un vieux matelot et devenu pianiste sans avoir quitté la mer\, Novecent
 o envoûte tous les passagers du navire d’une musique irréelle venue de
  nulle part et sa renommée commence à se répandre à terre…\n\nAvec l
 a reprise de cette lecture théâtralisée\, Fabien Bassot renoue avec l
 ’écriture de Barrico qui allie l’enchantement de la fable aux métaph
 ores vertigineuses. Un seul en scène\, qu’il avait joué en 1998 avec l
 e théâtre Grandeur Nature à l’âge de 24 ans\, et qu’il aborde aujo
 urd’hui avec un autre regard.
CATEGORIES:Spectacle
LOCATION:8 Place Faidherbe\, 8 Place Faidherbe\, Périgueux\, France
GEO:45.18327;0.72603
X-APPLE-STRUCTURED-LOCATION;VALUE=URI;X-ADDRESS=8 Place Faidherbe\, Périgu
 eux\, France;X-APPLE-RADIUS=100;X-TITLE=8 Place Faidherbe:geo:45.18327,0.7
 2603
END:VEVENT
BEGIN:VTIMEZONE
TZID:Europe/Paris
X-LIC-LOCATION:Europe/Paris
BEGIN:STANDARD
DTSTART:20241027T020000
TZOFFSETFROM:+0200
TZOFFSETTO:+0100
TZNAME:CET
END:STANDARD
END:VTIMEZONE
END:VCALENDAR