BEGIN:VCALENDAR
VERSION:2.0
PRODID:-//wp-events-plugin.com//7.2.3.1//EN
TZID:Europe/Paris
X-WR-TIMEZONE:Europe/Paris
BEGIN:VEVENT
UID:5327@agenda24.fr
DTSTART;TZID=Europe/Paris:20250220T190000
DTEND;TZID=Europe/Paris:20250220T200000
DTSTAMP:20250213T102942Z
URL:https://agenda24.fr/evenements/theatre-le-paradis-leonard-de-vinci-fai
 t-son-festival-a-la-filature-de-lisle-3/
SUMMARY:Théâtre Le Paradis - Leonard de Vinci fait son festival... à la 
 Filature de l'Isle
DESCRIPTION: Du 17 au 21 février\, le lycée professionnel Léonard de Vin
 ci\, Théâtre Grandeur Nature et Rouletabille Théâtre accueillent\, à 
 La Filature de l'Isle\, deux compagnies professionnelles pour trois specta
 cles et six représentations.\n\nJeudi 20 février :\nCourir de Jean Echen
 oz\nCie La lune et l’océan\nlu par Patrick Mons\,\n\nÉmile s’initie 
 à la course\, et s’entraîne tellement que cela devient une obsession d
 e performance. Il veut être l’homme qui court le plus vite sur Terre. O
 n reconnaîtra dans ce personnage romanesque la figure mythique d’Emil Z
 atopek\, le célèbre athlète tchèque.On entendra aussi\, dans cette lec
 ture\, la voix singulière d’Echenoz\, entre distance amusée et profond
 e réflexion sur la vanité de toute chose. Avec l’aimable autorisation 
 des Éditions de Minuit.
CATEGORIES:Spectacle
LOCATION:Filature de L'Isle\, 15 chemin des feutres du Toulon\, Périgueux\
 , France
GEO:45.1985230;0.69801675
X-APPLE-STRUCTURED-LOCATION;VALUE=URI;X-ADDRESS=15 chemin des feutres du To
 ulon\, Périgueux\, France;X-APPLE-RADIUS=100;X-TITLE=Filature de L'Isle:g
 eo:45.1985230,0.69801675
END:VEVENT
BEGIN:VTIMEZONE
TZID:Europe/Paris
X-LIC-LOCATION:Europe/Paris
BEGIN:STANDARD
DTSTART:20241027T020000
TZOFFSETFROM:+0200
TZOFFSETTO:+0100
TZNAME:CET
END:STANDARD
END:VTIMEZONE
END:VCALENDAR