BEGIN:VCALENDAR
VERSION:2.0
PRODID:-//wp-events-plugin.com//7.2.3.1//EN
TZID:Europe/Paris
X-WR-TIMEZONE:Europe/Paris
BEGIN:VEVENT
UID:5326@agenda24.fr
DTSTART;TZID=Europe/Paris:20250219T190000
DTEND;TZID=Europe/Paris:20250219T200000
DTSTAMP:20250213T102942Z
URL:https://agenda24.fr/evenements/theatre-le-paradis-leonard-de-vinci-fai
 t-son-festival-a-la-filature-de-lisle-2/
SUMMARY:Théâtre Le Paradis - Leonard de Vinci fait son festival... à la 
 Filature de l'Isle
DESCRIPTION: Du 17 au 21 février\, le lycée professionnel Léonard de Vin
 ci\, Théâtre Grandeur Nature et Rouletabille Théâtre accueillent\, à 
 La Filature de l'Isle\, deux compagnies professionnelles pour trois specta
 cles et six représentations.\n\nMercredi 19 février :\nDiego\, d’Alexa
 ndre Cordier\,\nCie Ce soir-là\, c’était la neige\nSeul en scène spor
 tif\nmise en scène de Barthélémy Fortier\nSur une idée originale de Ba
 rthélémy Fortier & Hugo Randrianatoavina\nAvec Hugo Randrianatoavina\n\n
 Diego doit son prénom à la passion de son père pour Maradona. Cela suff
 ira-t-il à lui tracer un destin de grand sportif ? Il n’est pas toujour
 s aisé d’échapper aux déterminismes.
CATEGORIES:Spectacle
LOCATION:Filature de L'Isle\, 15 chemin des feutres du Toulon\, Périgueux\
 , France
GEO:45.1985230;0.69801675
X-APPLE-STRUCTURED-LOCATION;VALUE=URI;X-ADDRESS=15 chemin des feutres du To
 ulon\, Périgueux\, France;X-APPLE-RADIUS=100;X-TITLE=Filature de L'Isle:g
 eo:45.1985230,0.69801675
END:VEVENT
BEGIN:VTIMEZONE
TZID:Europe/Paris
X-LIC-LOCATION:Europe/Paris
BEGIN:STANDARD
DTSTART:20241027T020000
TZOFFSETFROM:+0200
TZOFFSETTO:+0100
TZNAME:CET
END:STANDARD
END:VTIMEZONE
END:VCALENDAR