BEGIN:VCALENDAR
VERSION:2.0
PRODID:-//wp-events-plugin.com//7.2.3.1//EN
TZID:Europe/Paris
X-WR-TIMEZONE:Europe/Paris
BEGIN:VEVENT
UID:3853@agenda24.fr
DTSTART;TZID=Europe/Paris:20241206T200000
DTEND;TZID=Europe/Paris:20241206T210000
DTSTAMP:20241030T085653Z
URL:https://agenda24.fr/evenements/theatre-le-paradis-itineraire-dune-gira
 fe/
SUMMARY:Théâtre Le Paradis - Itinéraire d'une girafe
DESCRIPTION:
CATEGORIES:Dédié aux enfants
LOCATION:Théâtre Le Paradis\, 8 Place Faidherbe\, Périgueux\, France
GEO:45.18327;0.72603
X-APPLE-STRUCTURED-LOCATION;VALUE=URI;X-ADDRESS=8 Place Faidherbe\, Périgu
 eux\, France;X-APPLE-RADIUS=100;X-TITLE=Théâtre Le Paradis:geo:45.18327,
 0.72603
END:VEVENT
BEGIN:VTIMEZONE
TZID:Europe/Paris
X-LIC-LOCATION:Europe/Paris
BEGIN:STANDARD
DTSTART:20241027T020000
TZOFFSETFROM:+0200
TZOFFSETTO:+0100
TZNAME:CET
END:STANDARD
END:VTIMEZONE
END:VCALENDAR