BEGIN:VCALENDAR
VERSION:2.0
PRODID:-//wp-events-plugin.com//7.2.3.1//EN
TZID:Europe/Paris
X-WR-TIMEZONE:Europe/Paris
BEGIN:VEVENT
UID:5321@agenda24.fr
DTSTART;TZID=Europe/Paris:20250215T210000
DTEND;TZID=Europe/Paris:20250215T210000
DTSTAMP:20250213T102942Z
URL:https://agenda24.fr/evenements/theatre-lannee-de-la-gagne/
SUMMARY:Théâtre – L'Année de la gagne
DESCRIPTION:L’ Année de la Gagne est un spectacle de théâtre burlesque
  dans lequel 3 personnages inadaptés tentent\, tant bien que mal\, de tro
 uver leur place dans un contexte hostile. Kate\, Marina et Henri ont été
  sélectionnés pour participer a une expérience anthropologique radicale
  : vivre ensemble pendant une année face à un public invité à les obse
 rver. Ils sont très différents et tout porte à croire que cette expéri
 ence pourrait mal tourner. Et pourtant…\n\nEt si se confronter à l’au
 tre\, se rencontrer au-delà des conflits était le meilleur moyen de gran
 dir et d’évoluer ?\n\nL’Année de la Gagne est un projet tout terrain
  et tout public (à partir de 5 ans) qui se veut drôle\, sensible\, inclu
 sif : comme une sorte d’exutoire jubilatoire.
CATEGORIES:Spectacle
LOCATION:Salle des fêtes\, Le bourg\, Velines\, France
GEO:44.8590121;0.10723572
X-APPLE-STRUCTURED-LOCATION;VALUE=URI;X-ADDRESS=Le bourg\, Velines\, France
 ;X-APPLE-RADIUS=100;X-TITLE=Salle des fêtes:geo:44.8590121,0.10723572
END:VEVENT
BEGIN:VTIMEZONE
TZID:Europe/Paris
X-LIC-LOCATION:Europe/Paris
BEGIN:STANDARD
DTSTART:20241027T020000
TZOFFSETFROM:+0200
TZOFFSETTO:+0100
TZNAME:CET
END:STANDARD
END:VTIMEZONE
END:VCALENDAR