BEGIN:VCALENDAR
VERSION:2.0
PRODID:-//wp-events-plugin.com//7.2.3.1//EN
TZID:Europe/Paris
X-WR-TIMEZONE:Europe/Paris
BEGIN:VEVENT
UID:5314@agenda24.fr
DTSTART;TZID=Europe/Paris:20250314T203000
DTEND;TZID=Europe/Paris:20250314T203000
DTSTAMP:20250213T102953Z
URL:https://agenda24.fr/evenements/theatre-la-terre-tremble/
SUMMARY:Théâtre - La Terre tremble
DESCRIPTION:Au Centre Culturel à 20h30 La Compagnie Contrechamps vous prop
 ose un spectacle de Théâtre  . La Terre tremble plomge le spectateur au 
 sein de la capitale japonnaise dans une mise en scène immersive et subjug
 uante. \ndurée 1h15 Tout public à partir de 12 ans \nPlein Tarif  6€  
 Réduit 5€\nRenseignements et Réservations : 05 53 50 13 80 
CATEGORIES:Spectacle
LOCATION:Centre Culturel\, Centre Culturel \, Terrasson-Lavilledieu\, Franc
 e
GEO:45.12977;1.30233
X-APPLE-STRUCTURED-LOCATION;VALUE=URI;X-ADDRESS=Centre Culturel \, Terrasso
 n-Lavilledieu\, France;X-APPLE-RADIUS=100;X-TITLE=Centre Culturel:geo:45.1
 2977,1.30233
END:VEVENT
BEGIN:VTIMEZONE
TZID:Europe/Paris
X-LIC-LOCATION:Europe/Paris
BEGIN:STANDARD
DTSTART:20241027T020000
TZOFFSETFROM:+0200
TZOFFSETTO:+0100
TZNAME:CET
END:STANDARD
END:VTIMEZONE
END:VCALENDAR